BEGIN:VCALENDAR
VERSION:2.0
PRODID:-//ChamberMaster//Event Calendar 2.0//EN
METHOD:PUBLISH
X-PUBLISHED-TTL:P3D
REFRESH-INTERVAL:P3D
CALSCALE:GREGORIAN
BEGIN:VEVENT
DTSTART:20260425T213000Z
DTEND:20260426T000000Z
X-MICROSOFT-CDO-ALLDAYEVENT:FALSE
SUMMARY:Sapphic Speakeasy: an all-lesbian/Sapphic Burlesque and Drag Revue
DESCRIPTION:Join us Saturday\, April 25 at 5pm at the AllWays Lounge for Sapphic Speakeasy: an all-Sapphic + lesbian burlesque and drag revue! Tickets available here: tinyurl.com/AprilSpeakeasy Come enjoy a glorious post- Jazz Fest evening with the Crescent City's most sensual Sapphic babes! This show is a celebration of pride by and for lesbians\, Sapphics\, women loving women\, and trans/nonbinary folks! We welcome allies to attend\, and ask that you keep in mind that this show is centered around LGBTQIA+ folks\, so please respect the space and each other. Any form of racism\, sexism\, homophobia\, transphobia\, ageism\, or ableism will not be tolerated. Celebrate the talent in our local sapphic/lesbian community with our variety show featuring an all-Sapphic cast. Bid on our raffle to win future show tickets and other incredible prizes! Come mix and mingle with your local Sapphic cuties and celebrate in a safe space for all the gals and non-binary pals! The show is taking place in the front bar at the AllWays Lounge\, located at 2240 St Claude Ave\, New Orleans\, LA. Please note this show is 21+. Performances by Carlotta Coquette\, Jeez Loueez\, Lola Van Ella\, Julia Harley\, Phaedra Sharpe\, and more! Doors at 4:30pm\, show begins promptly at 5:15pm. General Admission tickets are available for $25\, and limited VIP seats up close to the stage are available for $40. VIP tickets include raffle tickets and a signed picture of Carlotta Coquette. Come hungry! Sexy Meatballs is serving up dinner for all dietary needs! Tickets available here: tinyurl.com/AprilSpeakeasy
X-ALT-DESC;FMTTYPE=text/html:Join us Saturday\, April 25 at 5pm at the AllWays Lounge for Sapphic Speakeasy: an all-Sapphic + lesbian burlesque and drag revue! Tickets available here: tinyurl.com/AprilSpeakeasy Come enjoy a glorious post- Jazz Fest evening with the Crescent City&#39\;s most sensual Sapphic babes! This show is a celebration of pride by and for lesbians\, Sapphics\, women loving women\, and trans/nonbinary folks! We welcome allies to attend\, and ask that you keep in mind that this show is centered around LGBTQIA+ folks\, so please respect the space and each other. Any form of racism\, sexism\, homophobia\, transphobia\, ageism\, or ableism will not be tolerated. Celebrate the talent in our local sapphic/lesbian community with our variety show featuring an all-Sapphic cast. Bid on our raffle to win future show tickets and other incredible prizes! Come mix and mingle with your local Sapphic cuties and celebrate in a safe space for all the gals and non-binary pals! The show is taking place in the front bar at the AllWays Lounge\, located at 2240 St Claude Ave\, New Orleans\, LA. Please note this show is 21+. Performances by Carlotta Coquette\, Jeez Loueez\, Lola Van Ella\, Julia Harley\, Phaedra Sharpe\, and more! Doors at 4:30pm\, show begins promptly at 5:15pm. General Admission tickets are available for $25\, and limited VIP seats up close to the stage are available for $40. VIP tickets include raffle tickets and a signed picture of Carlotta Coquette. Come hungry! Sexy Meatballs is serving up dinner for all dietary needs! Tickets available here: tinyurl.com/AprilSpeakeasy
LOCATION:The AllWays Lounge 2240 St. Claude Ave New Orleans\, LA
UID:e.1784.587
SEQUENCE:3
DTSTAMP:20260420T211831Z
URL:https://business.nolachamber.com/events/details/sapphic-speakeasy-an-all-lesbian-sapphic-burlesque-and-drag-revue-587
END:VEVENT

END:VCALENDAR
